BEGIN:VCALENDAR
VERSION:2.0
PRODID:spatie/icalendar-generator
DESCRIPTION:Events from CVBG
X-WR-CALDESC:Events from CVBG
REFRESH-INTERVAL;VALUE=DURATION:PT1440M
X-PUBLISHED-TTL:PT1440M
BEGIN:VTIMEZONE
TZID:Etc/GMT+5
BEGIN:STANDARD
DTSTART:20250909T090000Z
TZOFFSETFROM:-0500
TZOFFSETTO:-0500
END:STANDARD
END:VTIMEZONE
BEGIN:VTIMEZONE
TZID:UTC
BEGIN:STANDARD
DTSTART:20250727T233717Z
TZOFFSETFROM:+0000
TZOFFSETTO:+0000
END:STANDARD
END:VTIMEZONE
BEGIN:VEVENT
UID:107-98
DTSTAMP:20260423T233717Z
SUMMARY:Blacksmithing 101 Class
LOCATION:
ORGANIZER;CN=jwoolf:MAILTO:jwoolf@rvatechsolutions.com
DTSTART;TZID=Etc/GMT+5:20260606T090000
DTEND;TZID=Etc/GMT+5:20260606T143000
X-ALT-DESC;FMTTYPE=TEXT/HTML:Click Here for more info and tickets
CATEGORIES:Blacksmith Class
URL;VALUE=URI:https://cvbg.org/mc-events/blacksmithing-101-class-4/
METHOD:PUBLISH
END:VEVENT
END:VCALENDAR